BEGIN:VCALENDAR
VERSION:2.0
PRODID:-//Intand Corporation//Tandem//EN
METHOD:PUBLISH
BEGIN:VEVENT
DTSTAMP:20260424T050246Z
DTSTART:20191203T000000Z
DTEND:20191203T013000Z
TRANSP:TRANSPARENT
PRIORITY:0
SUMMARY:WHE - 2nd Grade Concert - 6:30 - LNHS Theatre
LOCATION:LNHS Cafeteria (GH HVAC)\, LNHS Performing Arts Theater (GH HVAC)
 \, LNHS Great Hall
DESCRIPTION:Warren Hills Elementary 2nd Grade concert at LNHS Theatre at 6
 :30 pm\n\nGroups:\nWHE Staff\nWHE Parent\n\nSchools:\nWarren Hills Element
 ary\nLiberty North High School\n\nLocations:\nLNHS Cafeteria (GH HVAC)\nLN
 HS Performing Arts Theater (GH HVAC)\nLNHS Great Hall\n\n
URL;VALUE=URI:http://liberty53.tandem.co/index.php?type=view&action=event&
 id=347227
CREATED:20190625T144625Z
LAST-MODIFIED:20190625T152935Z
UID:event_request-347227-liberty53@intand.com
END:VEVENT
END:VCALENDAR
