BEGIN:VCALENDAR
VERSION:2.0
PRODID:-//Intand Corporation//Tandem//EN
METHOD:PUBLISH
BEGIN:VEVENT
DTSTAMP:20260424T024150Z
DTSTART:20190812T210000Z
DTEND:20190812T230000Z
TRANSP:TRANSPARENT
PRIORITY:0
SUMMARY:SC-Back To School Night
LOCATION:Shoal Creek Elementary
DESCRIPTION:Groups:\nSCE Staff\nSCE PTA\nSCE Parent\n\nSchools:\nShoal Cre
 ek Elementary\n\nLocation:\nShoal Creek Elementary\n\n
URL;VALUE=URI:http://liberty53.tandem.co/index.php?type=view&action=event&
 id=347087
CREATED:20190624T185209Z
LAST-MODIFIED:20190624T185209Z
UID:event-347087-liberty53@intand.com
END:VEVENT
END:VCALENDAR
