BEGIN:VCALENDAR
VERSION:2.0
PRODID:-//Intand Corporation//Tandem//EN
METHOD:PUBLISH
BEGIN:VEVENT
DTSTAMP:20260424T063616Z
DTSTART:20200226T000000Z
DTEND:20200226T013500Z
TRANSP:TRANSPARENT
PRIORITY:0
SUMMARY:DMS- Incoming 6th Grade Parent Night
LOCATION:DMS Room 101\, DMS Room 103\, DMS Room 123\, DMS Cafeteria\, DMS 
 Room 100\, DMS Room 102\, DMS Birdcage\, DMS LMC\, DMS Room 104\, DMS Room
  124\, DMS Cool Beans
DESCRIPTION:There will be set up needs in the LMC\, Birdcage\, & Cool Bean
 s. More details on set up to come closer to event.\n\nGroups:\nDMS Adminis
 trators\n\nSchools:\nDiscovery Middle School\n\nLocations:\nDMS Room 101\n
 DMS Room 103\nDMS Room 123\nDMS Cafeteria\nDMS Room 100\nDMS Room 102\nDMS
  Birdcage\nDMS LMC\nDMS Room 104\nDMS Room 124\nDMS Cool Beans\n\n
URL;VALUE=URI:http://liberty53.tandem.co/index.php?type=view&action=event&
 id=347085
CREATED:20190624T180833Z
LAST-MODIFIED:20200225T135412Z
UID:event_request-347085-liberty53@intand.com
END:VEVENT
END:VCALENDAR
