BEGIN:VCALENDAR
VERSION:2.0
PRODID:-//Intand Corporation//Tandem//EN
METHOD:PUBLISH
BEGIN:VEVENT
DTSTAMP:20260424T061647Z
DTSTART:20191002T000000Z
DTEND:20191002T010000Z
TRANSP:TRANSPARENT
PRIORITY:0
SUMMARY:PTA Meeting
LOCATION:KE Cafeteria\, KE Library
DESCRIPTION:Groups:\nKE Staff\nKE Parent\nKE PTA\n\nSchools:\nKellybrook E
 lementary\n\nLocations:\nKE Cafeteria\nKE Library\n\n
URL;VALUE=URI:http://liberty53.tandem.co/index.php?type=view&action=event&
 id=347044
CREATED:20190624T154038Z
LAST-MODIFIED:20190624T154038Z
UID:event-347044-liberty53@intand.com
END:VEVENT
END:VCALENDAR
