BEGIN:VCALENDAR
VERSION:2.0
PRODID:-//Intand Corporation//Tandem//EN
METHOD:PUBLISH
BEGIN:VEVENT
DTSTAMP:20260424T050153Z
DTSTART:20191211T003000Z
DTEND:20191211T013000Z
TRANSP:TRANSPARENT
PRIORITY:0
SUMMARY:AD PTA Executive Meeting - LMC 
LOCATION:Alexander Doniphan Elementary
DESCRIPTION:Groups:\nADE Parent\nADE PTA\n\nSchools:\nAlexander Doniphan E
 lementary\n\nLocation:\nAlexander Doniphan Elementary\n\n
URL;VALUE=URI:http://liberty53.tandem.co/index.php?type=view&action=event&
 id=347016
CREATED:20190624T135851Z
LAST-MODIFIED:20190624T135851Z
UID:event-347016-liberty53@intand.com
END:VEVENT
END:VCALENDAR
