BEGIN:VCALENDAR
VERSION:2.0
PRODID:-//Intand Corporation//Tandem//EN
METHOD:PUBLISH
BEGIN:VEVENT
DTSTAMP:20260424T040856Z
DTSTART:20191003T223000Z
DTEND:20191004T045959Z
TRANSP:TRANSPARENT
PRIORITY:0
SUMMARY:LN VB C vs Central
LOCATION:LNHS Aux Gym - 407 (GH HVAC)
DESCRIPTION:Breakdown: TBD\n\nReturn: TBD\n\nGroups:\nLNHS Volleyball - Fr
 eshman\n\nSchools:\nLiberty North High School\n\nLocation:\nLNHS Aux Gym -
  407 (GH HVAC)\n\n
URL;VALUE=URI:http://liberty53.tandem.co/index.php?type=view&action=event&
 id=346640
CREATED:20190621T234319Z
LAST-MODIFIED:20190621T234319Z
UID:event-346640-liberty53@intand.com
END:VEVENT
END:VCALENDAR
