BEGIN:VCALENDAR
VERSION:2.0
PRODID:-//Intand Corporation//Tandem//EN
METHOD:PUBLISH
BEGIN:VEVENT
DTSTAMP:20260424T030357Z
DTSTART:20190916T223000Z
DTEND:20190917T045959Z
TRANSP:TRANSPARENT
PRIORITY:0
SUMMARY:LN VB C vs OPark
LOCATION:LNHS Aux Gym - 407 (GH HVAC)
DESCRIPTION:Breakdown: TBD\n\nReturn: TBD\n\nGroups:\nLNHS Volleyball - Fr
 eshman\n\nSchools:\nLiberty North High School\n\nLocation:\nLNHS Aux Gym -
  407 (GH HVAC)\n\n
URL;VALUE=URI:http://liberty53.tandem.co/index.php?type=view&action=event&
 id=346634
CREATED:20190621T233912Z
LAST-MODIFIED:20190621T233912Z
UID:event-346634-liberty53@intand.com
END:VEVENT
END:VCALENDAR
