BEGIN:VCALENDAR
VERSION:2.0
PRODID:-//Intand Corporation//Tandem//EN
METHOD:PUBLISH
BEGIN:VEVENT
DTSTAMP:20260424T033120Z
DTSTART:20190829T230000Z
DTEND:20190830T045959Z
TRANSP:TRANSPARENT
PRIORITY:0
SUMMARY:LN VB V Jamboree vs Kearney & PCounty
LOCATION:LNHS Fieldhouse (GH HVAC)
DESCRIPTION:Breakdown: TBD\n\nReturn: TBD\n\nGroups:\nLNHS Volleyball - JV
 /Varsity\n\nSchools:\nLiberty North High School\n\nLocation:\nLNHS Fieldho
 use (GH HVAC)\n\n
URL;VALUE=URI:http://liberty53.tandem.co/index.php?type=view&action=event&
 id=346603
CREATED:20190621T231313Z
LAST-MODIFIED:20190621T231313Z
UID:event-346603-liberty53@intand.com
END:VEVENT
END:VCALENDAR
