BEGIN:VCALENDAR
VERSION:2.0
PRODID:-//Intand Corporation//Tandem//EN
METHOD:PUBLISH
BEGIN:VEVENT
DTSTAMP:20260424T035134Z
DTSTART:20191029T210000Z
DTEND:20191030T000000Z
TRANSP:TRANSPARENT
PRIORITY:0
SUMMARY:LHS-C G/S Football @ Home vs Blue Springs
LOCATION:LHS Turf Game Field
DESCRIPTION:Gold 4pm Silver 5:30pm\n\nGroups:\nLHS Football\nLHS Football 
 Freshman\n\nSchools:\nLiberty High School\n\nLocation:\nLHS Turf Game Fiel
 d\n\n
URL;VALUE=URI:http://liberty53.tandem.co/index.php?type=view&action=event&
 id=346493
CREATED:20190621T145353Z
LAST-MODIFIED:20191002T123051Z
UID:event-346493-liberty53@intand.com
END:VEVENT
END:VCALENDAR
