BEGIN:VCALENDAR
VERSION:2.0
PRODID:-//Intand Corporation//Tandem//EN
METHOD:PUBLISH
BEGIN:VEVENT
DTSTAMP:20260424T040917Z
DTSTART:20190921T000000Z
DTEND:20190921T030000Z
TRANSP:TRANSPARENT
PRIORITY:0
SUMMARY:LHS-Var Football Home vs Liberty North 
LOCATION:LHS Turf Game Field
DESCRIPTION:Groups:\nLHS Football Varsity\n\nSchools:\nLiberty High School
 \n\nLocation:\nLHS Turf Game Field\n\n
URL;VALUE=URI:http://liberty53.tandem.co/index.php?type=view&action=event&
 id=346180
CREATED:20190618T180821Z
LAST-MODIFIED:20190618T184241Z
UID:event-346180-liberty53@intand.com
END:VEVENT
END:VCALENDAR
