BEGIN:VCALENDAR
VERSION:2.0
PRODID:-//Intand Corporation//Tandem//EN
METHOD:PUBLISH
BEGIN:VEVENT
DTSTAMP:20260424T080206Z
DTSTART:20190808T120000Z
DTEND:20190808T170000Z
TRANSP:TRANSPARENT
PRIORITY:0
SUMMARY:SVMS-LGIR TEAM BUILDING-MULLEN-SVMS
LOCATION:SVMS LGIR
DESCRIPTION:Groups:\nSVMS Staff\nSVMS Admin\n\nSchools:\nSouth Valley Midd
 le School\n\nLocation:\nSVMS LGIR\n\n
URL;VALUE=URI:http://liberty53.tandem.co/index.php?type=view&action=event&
 id=346086
CREATED:20190618T165229Z
LAST-MODIFIED:20190618T165229Z
UID:event-346086-liberty53@intand.com
END:VEVENT
END:VCALENDAR
