BEGIN:VCALENDAR
VERSION:2.0
PRODID:-//Intand Corporation//Tandem//EN
METHOD:PUBLISH
BEGIN:VEVENT
DTSTAMP:20260424T063703Z
DTSTART:20190910T230000Z
DTEND:20190911T003000Z
TRANSP:TRANSPARENT
PRIORITY:0
SUMMARY:Busy Bus and Engine 4:  An Evening of Community Helpers
LOCATION:Liberty Early Childhood Center\, ECC Fireplace Room
DESCRIPTION:Help us celebrate the launch of local author\, Jody Jenson Sha
 ffer's newest book\,  It's a Field Trip\, Busy Bus.  Tour a school bus and
  fire engine and learn about community helpers and meet the author.\n\nGro
 ups:\nPAT Staff\nPAT Parent\nECC Staff\nECC Parent\n\nSchools:\nEarly Chil
 dhood Education Center\n\nLocations:\nLiberty Early Childhood Center\nECC 
 Fireplace Room\n\n
X-ALT-DESC;FMTTYPE=text/html:<!doctype html><html><body>Help us celebrate 
 the launch of local author\, Jody Jenson Shaffer's newest book\,  <em><str
 ong>It's a Field Trip\, Busy Bus.</strong></em>  Tour a school bus and fir
 e engine and learn about community helpers and meet the author.<br /><br /
 >Groups:<br />PAT Staff<br />PAT Parent<br />ECC Staff<br />ECC Parent<br 
 /><br />Schools:<br />Early Childhood Education Center<br /><br />Location
 s:<br />Liberty Early Childhood Center<br />ECC Fireplace Room<br /></body
 ></html>
URL;VALUE=URI:http://liberty53.tandem.co/index.php?type=view&action=event&
 id=345876
CREATED:20190618T163747Z
LAST-MODIFIED:20190618T163747Z
UID:event-345876-liberty53@intand.com
END:VEVENT
END:VCALENDAR
