BEGIN:VCALENDAR
VERSION:2.0
PRODID:-//Intand Corporation//Tandem//EN
METHOD:PUBLISH
BEGIN:VEVENT
DTSTAMP:20260424T041138Z
DTSTART:20191028T233000Z
DTEND:20191029T003000Z
TRANSP:TRANSPARENT
PRIORITY:0
SUMMARY:SVMS-PTSA MTG.-LMC-SVMS
LOCATION:SVMS LMC
DESCRIPTION:Groups:\nSVMS PTSA\n\nSchools:\nSouth Valley Middle School\n\n
 Location:\nSVMS LMC\n\n
URL;VALUE=URI:http://liberty53.tandem.co/index.php?type=view&action=event&
 id=345840
CREATED:20190618T153622Z
LAST-MODIFIED:20190618T153622Z
UID:event-345840-liberty53@intand.com
END:VEVENT
END:VCALENDAR
