BEGIN:VCALENDAR
VERSION:2.0
PRODID:-//Intand Corporation//Tandem//EN
METHOD:PUBLISH
BEGIN:VEVENT
DTSTAMP:20260424T144128Z
DTSTART:20190812T213000Z
DTEND:20190812T230000Z
TRANSP:TRANSPARENT
PRIORITY:0
SUMMARY:5 Day Early Learning Program Open House
LOCATION:Early Childhood Education Center
DESCRIPTION:This open house event is specifically for students who are enr
 olled in the 5 Day Early Learning program.  All other programs will host t
 heir open house on Thursday\, August 15.\n\nGroups:\nECC Parent\nECC Staff
 \n\nSchools:\nEarly Childhood Education Center\n\nLocation:\nEarly Childho
 od Education Center\n\n
X-ALT-DESC;FMTTYPE=text/html:<!doctype html><html><body><em><strong>This o
 pen house event is specifically for students who are enrolled in the 5 Day
  Early Learning program.</strong></em>  All other programs will host their
  open house on Thursday\, August 15.<br /><br />Groups:<br />ECC Parent<br
  />ECC Staff<br /><br />Schools:<br />Early Childhood Education Center<br 
 /><br />Location:<br />Early Childhood Education Center<br /></body></html
 >
URL;VALUE=URI:http://liberty53.tandem.co/index.php?type=view&action=event&
 id=345810
CREATED:20190618T145426Z
LAST-MODIFIED:20190708T153109Z
UID:event-345810-liberty53@intand.com
END:VEVENT
END:VCALENDAR
