BEGIN:VCALENDAR
VERSION:2.0
PRODID:-//Intand Corporation//Tandem//EN
METHOD:PUBLISH
BEGIN:VEVENT
DTSTAMP:20260424T055328Z
DTSTART:20190821T211500Z
DTEND:20190821T230000Z
TRANSP:TRANSPARENT
PRIORITY:0
SUMMARY:WHE - Kids zone - Gym & Cafeteria - 4:15 pm - 6:00 pm
LOCATION:WHE Gym\, WHE Cafeteria
DESCRIPTION:Warren Hills kids zone in the cafeteria & gym from 4:15 pm - 6
 :00 pm\n\nGroups:\nWHE Staff\nWHE Parent\nWHE Kid's Zone\n\nSchools:\nWarr
 en Hills Elementary\n\nLocations:\nWHE Gym\nWHE Cafeteria\n\n
URL;VALUE=URI:http://liberty53.tandem.co/index.php?type=view&action=event&
 id=345290
CREATED:20190616T230535Z
LAST-MODIFIED:20190616T230535Z
UID:event-345290-liberty53@intand.com
END:VEVENT
END:VCALENDAR
