BEGIN:VCALENDAR
VERSION:2.0
PRODID:-//Intand Corporation//Tandem//EN
METHOD:PUBLISH
BEGIN:VEVENT
DTSTAMP:20260424T091210Z
DTSTART:20191012T120000Z
DTEND:20191013T023000Z
TRANSP:TRANSPARENT
PRIORITY:0
SUMMARY:WHE - Will Have Risers set up in gym for practice on 10/14
LOCATION:WHE Gym
DESCRIPTION:Will have risers set up in the gym for practice on Monday morn
 ing for concert.\n\nGroups:\nWHE Staff\nWHE Vocal Music\n\nSchools:\nWarre
 n Hills Elementary\n\nLocation:\nWHE Gym\n\n
URL;VALUE=URI:http://liberty53.tandem.co/index.php?type=view&action=event&
 id=345262
CREATED:20190616T224820Z
LAST-MODIFIED:20190616T224820Z
UID:event-345262-liberty53@intand.com
END:VEVENT
END:VCALENDAR
