BEGIN:VCALENDAR
VERSION:2.0
PRODID:-//Intand Corporation//Tandem//EN
METHOD:PUBLISH
BEGIN:VEVENT
DTSTAMP:20260424T074047Z
DTSTART:20191206T000000Z
DTEND:20191206T013000Z
TRANSP:TRANSPARENT
PRIORITY:0
SUMMARY:WHE - Treble Maker's Performance - Gym - 6:30 pm
LOCATION:WHE Gym
DESCRIPTION:WHE - Treble Maker's Performance  in the Warren Hills Gym at 6
 :30 pm\n\nGroups:\nWHE Staff\nWHE Vocal Music\n\nSchools:\nWarren Hills El
 ementary\n\nLocation:\nWHE Gym\n\n
URL;VALUE=URI:http://liberty53.tandem.co/index.php?type=view&action=event&
 id=345260
CREATED:20190616T224425Z
LAST-MODIFIED:20190625T142357Z
UID:event-345260-liberty53@intand.com
END:VEVENT
END:VCALENDAR
