BEGIN:VCALENDAR
VERSION:2.0
PRODID:-//Intand Corporation//Tandem//EN
METHOD:PUBLISH
BEGIN:VEVENT
DTSTAMP:20260424T040934Z
DTSTART:20200128T211500Z
DTEND:20200128T233000Z
TRANSP:TRANSPARENT
PRIORITY:0
SUMMARY:LHS Play Rehearsal
LOCATION:LHS The Little Theater
DESCRIPTION:Groups:\nLHS Drama\n\nSchools:\nLiberty High School\n\nLocatio
 n:\nLHS The Little Theater\n\nContacts:\nDon Johnson\nMichael Turpin\n\n
URL;VALUE=URI:http://liberty53.tandem.co/index.php?type=view&action=event&
 id=345248
CREATED:20190615T104354Z
LAST-MODIFIED:20190617T145619Z
UID:event_request-345248-liberty53@intand.com
END:VEVENT
END:VCALENDAR
