BEGIN:VCALENDAR
VERSION:2.0
PRODID:-//Intand Corporation//Tandem//EN
METHOD:PUBLISH
BEGIN:VEVENT
DTSTAMP:20260424T161041Z
DTSTART:20190618T110000Z
DTEND:20190618T120000Z
TRANSP:TRANSPARENT
PRIORITY:0
SUMMARY:LNHS Cheer Practice
LOCATION:LNHS Aux Gym - 407 (GH HVAC)
DESCRIPTION:Groups:\nLNHS Cheerleading\n\nSchools:\nLiberty North High Sch
 ool\n\nLocation:\nLNHS Aux Gym - 407 (GH HVAC)\n\n
URL;VALUE=URI:http://liberty53.tandem.co/index.php?type=view&action=event&
 id=345153
CREATED:20190614T035052Z
LAST-MODIFIED:20190617T121719Z
UID:event_request-345153-liberty53@intand.com
END:VEVENT
END:VCALENDAR
