BEGIN:VCALENDAR
VERSION:2.0
PRODID:-//Intand Corporation//Tandem//EN
METHOD:PUBLISH
BEGIN:VEVENT
DTSTAMP:20260424T040919Z
DTSTART:20190623T230000Z
DTEND:20190624T010000Z
TRANSP:TRANSPARENT
PRIORITY:0
SUMMARY:LHS-Football
LOCATION:LHS Turf Game Field
DESCRIPTION:Groups:\nLHS Football\n\nSchools:\nLiberty High School\n\nLoca
 tion:\nLHS Turf Game Field\n\n
URL;VALUE=URI:http://liberty53.tandem.co/index.php?type=view&action=event&
 id=345084
CREATED:20190613T155301Z
LAST-MODIFIED:20190613T155301Z
UID:event-345084-liberty53@intand.com
END:VEVENT
END:VCALENDAR
