BEGIN:VCALENDAR
VERSION:2.0
PRODID:-//Intand Corporation//Tandem//EN
METHOD:PUBLISH
BEGIN:VEVENT
DTSTAMP:20260424T091436Z
DTSTART:20190617T200000Z
DTEND:20190618T030000Z
TRANSP:TRANSPARENT
PRIORITY:0
SUMMARY:LHS Volleyball League
LOCATION:DMS Gym
DESCRIPTION:Groups:\nLHS Volleyball\nDMS Staff\n\nSchools:\nLiberty High S
 chool\nDiscovery Middle School\n\nLocation:\nDMS Gym\n\n
URL;VALUE=URI:http://liberty53.tandem.co/index.php?type=view&action=event&
 id=345066
CREATED:20190612T192650Z
LAST-MODIFIED:20190612T192650Z
UID:event-345066-liberty53@intand.com
END:VEVENT
END:VCALENDAR
