BEGIN:VCALENDAR
VERSION:2.0
PRODID:-//Intand Corporation//Tandem//EN
METHOD:PUBLISH
BEGIN:VEVENT
DTSTAMP:20260424T091419Z
DTSTART:20200117T003000Z
DTEND:20200117T013000Z
TRANSP:TRANSPARENT
PRIORITY:0
SUMMARY:FRESHMAN PARENT NIGHT
LOCATION:LNHS Performing Arts Theater (GH HVAC)
DESCRIPTION:Groups:\nLNHS Guidance\n\nSchools:\nLiberty North High School\
 n\nLocation:\nLNHS Performing Arts Theater (GH HVAC)\n\n
URL;VALUE=URI:http://liberty53.tandem.co/index.php?type=view&action=event&
 id=345022
CREATED:20190611T204442Z
LAST-MODIFIED:20190613T184527Z
UID:event_request-345022-liberty53@intand.com
END:VEVENT
END:VCALENDAR
