BEGIN:VCALENDAR
VERSION:2.0
PRODID:-//Intand Corporation//Tandem//EN
METHOD:PUBLISH
BEGIN:VEVENT
DTSTAMP:20260424T063825Z
DTSTART:20190616T150000Z
DTEND:20190616T190000Z
TRANSP:TRANSPARENT
PRIORITY:0
SUMMARY:LHS Soccer 
LOCATION:DMS LMC
DESCRIPTION:LHS Soccer Team Building No set up needed. Ali Neibling and Ty
 ler Nash are contact people. \n\nSchools:\nLiberty High School\nDiscovery 
 Middle School\n\nLocation:\nDMS LMC\n\n
URL;VALUE=URI:http://liberty53.tandem.co/index.php?type=view&action=event&
 id=344678
CREATED:20190611T165831Z
LAST-MODIFIED:20190611T203637Z
UID:event_request-344678-liberty53@intand.com
END:VEVENT
END:VCALENDAR
