BEGIN:VCALENDAR
VERSION:2.0
PRODID:-//Intand Corporation//Tandem//EN
METHOD:PUBLISH
BEGIN:VEVENT
DTSTAMP:20260424T043219Z
DTSTART:20190720T133000Z
DTEND:20190720T220000Z
TRANSP:TRANSPARENT
PRIORITY:0
SUMMARY:LHS - Cheer Practice/Showcase
LOCATION:LHS Fieldhouse Gym
DESCRIPTION:Groups:\nLHS Cheerleading\n\nSchools:\nLiberty High School\n\n
 Location:\nLHS Fieldhouse Gym\n\n
URL;VALUE=URI:http://liberty53.tandem.co/index.php?type=view&action=event&
 id=344675
CREATED:20190611T140324Z
LAST-MODIFIED:20190611T140324Z
UID:event-344675-liberty53@intand.com
END:VEVENT
END:VCALENDAR
