BEGIN:VCALENDAR
VERSION:2.0
PRODID:-//Intand Corporation//Tandem//EN
METHOD:PUBLISH
BEGIN:VEVENT
DTSTAMP:20260424T014806Z
DTSTART:20190703T150000Z
DTEND:20190703T170000Z
TRANSP:TRANSPARENT
PRIORITY:0
SUMMARY:Sapphires Practice
LOCATION:LMS Gym
DESCRIPTION:Groups:\nLMS Staff\nLHS Sapphires Varsity\n\nSchools:\nLiberty
  Middle School\nLiberty High School\n\nLocation:\nLMS Gym\n\n
URL;VALUE=URI:http://liberty53.tandem.co/index.php?type=view&action=event&
 id=344666
CREATED:20190611T124129Z
LAST-MODIFIED:20190611T124129Z
UID:event-344666-liberty53@intand.com
END:VEVENT
END:VCALENDAR
