BEGIN:VCALENDAR
VERSION:2.0
PRODID:-//Intand Corporation//Tandem//EN
METHOD:PUBLISH
BEGIN:VEVENT
DTSTAMP:20260424T063609Z
DTSTART:20190702T150000Z
DTEND:20190702T170000Z
TRANSP:TRANSPARENT
PRIORITY:0
SUMMARY:Sapphires Practice
LOCATION:LMS Gym
DESCRIPTION:Groups:\nLHS Sapphires Varsity\nLMS Staff\n\nSchools:\nLiberty
  High School\nLiberty Middle School\n\nLocation:\nLMS Gym\n\n
URL;VALUE=URI:http://liberty53.tandem.co/index.php?type=view&action=event&
 id=344665
CREATED:20190611T124129Z
LAST-MODIFIED:20190611T124129Z
UID:event-344665-liberty53@intand.com
END:VEVENT
END:VCALENDAR
