BEGIN:VCALENDAR
VERSION:2.0
PRODID:-//Intand Corporation//Tandem//EN
METHOD:PUBLISH
BEGIN:VEVENT
DTSTAMP:20260424T040833Z
DTSTART:20190924T180000Z
DTEND:20190924T184000Z
TRANSP:TRANSPARENT
PRIORITY:0
SUMMARY:Jostens Senior Meeting: Announcements/CapGown
LOCATION:LHS Fieldhouse Gym
DESCRIPTION:Senior Class Meeting in the Field House for Graduation Announc
 ments/Cap & Gown ordering information and Packet distribution.\n\nSchools:
 \nLiberty High School\n\nLocation:\nLHS Fieldhouse Gym\n\n
URL;VALUE=URI:http://liberty53.tandem.co/index.php?type=view&action=event&
 id=344547
CREATED:20190607T162550Z
LAST-MODIFIED:20190610T134819Z
UID:event_request-344547-liberty53@intand.com
END:VEVENT
END:VCALENDAR
