BEGIN:VCALENDAR
VERSION:2.0
PRODID:-//Intand Corporation//Tandem//EN
METHOD:PUBLISH
BEGIN:VEVENT
DTSTAMP:20260424T040819Z
DTSTART:20190613T210000Z
DTEND:20190613T230000Z
TRANSP:TRANSPARENT
PRIORITY:0
SUMMARY:DIAL Screening in 300's Hallway
LOCATION:Early Childhood Education Center
DESCRIPTION:Groups:\nPAT Staff\n\nSchools:\nEarly Childhood Education Cent
 er\n\nLocation:\nEarly Childhood Education Center\n\n
URL;VALUE=URI:http://liberty53.tandem.co/index.php?type=view&action=event&
 id=344518
CREATED:20190606T223309Z
LAST-MODIFIED:20190606T223309Z
UID:event-344518-liberty53@intand.com
END:VEVENT
END:VCALENDAR
