BEGIN:VCALENDAR
VERSION:2.0
PRODID:-//Intand Corporation//Tandem//EN
METHOD:PUBLISH
BEGIN:VEVENT
DTSTAMP:20260424T033458Z
DTSTART:20190919T120000Z
DTEND:20190919T173000Z
TRANSP:TRANSPARENT
PRIORITY:0
SUMMARY:DMS- Color Splash
LOCATION:SVMS Track Green Area\, SVMS 7th Grade Green Space\, DMS Football
  Field\, SVMS South Staff Parking Lot\, SVMS Bus Parking Lot\, SVMS Athlet
 ic Field\, DMS Track\, SVMS Outdoor Classroom\, SVMS South Green Space\, S
 VMS Front Staff Parking 
DESCRIPTION:We will also utilize the bus lot\, north staff parking lot\, a
 nd east staff parking lot.\n\nGroups:\nDMS Administrators\n\nSchools:\nDis
 covery Middle School\nSouth Valley Middle School\n\nLocations:\nSVMS Track
  Green Area\nSVMS 7th Grade Green Space\nDMS Football Field\nSVMS South St
 aff Parking Lot\nSVMS Bus Parking Lot\nSVMS Athletic Field\nDMS Track\nSVM
 S Outdoor Classroom\nSVMS South Green Space\nSVMS Front Staff Parking Lot\
 nSVMS 6th Grade Green Space\nDMS Soccer Field\n\n
URL;VALUE=URI:http://liberty53.tandem.co/index.php?type=view&action=event&
 id=344484
CREATED:20190606T185405Z
LAST-MODIFIED:20190716T193950Z
UID:event_request-344484-liberty53@intand.com
END:VEVENT
END:VCALENDAR
