BEGIN:VCALENDAR
VERSION:2.0
PRODID:-//Intand Corporation//Tandem//EN
METHOD:PUBLISH
BEGIN:VEVENT
DTSTAMP:20260424T014838Z
DTSTART:20191010T203000Z
DTEND:20191011T003000Z
TRANSP:TRANSPARENT
PRIORITY:0
SUMMARY:MH-LHS Cheerleaders-Moats
LOCATION:MHE Gym
DESCRIPTION:Groups:\nMHE Staff\n\nSchools:\nManor Hill Elementary\n\nLocat
 ion:\nMHE Gym\n\n
URL;VALUE=URI:http://liberty53.tandem.co/index.php?type=view&action=event&
 id=344197
CREATED:20190605T131253Z
LAST-MODIFIED:20190605T131253Z
UID:event-344197-liberty53@intand.com
END:VEVENT
END:VCALENDAR
