BEGIN:VCALENDAR
VERSION:2.0
PRODID:-//Intand Corporation//Tandem//EN
METHOD:PUBLISH
BEGIN:VEVENT
DTSTAMP:20260424T033543Z
DTSTART:20190910T233000Z
DTEND:20190911T013000Z
TRANSP:TRANSPARENT
PRIORITY:0
SUMMARY:MH-PTA Meeting-Library
LOCATION:MHE Library
DESCRIPTION:Groups:\nMHE Parent\nMHE PTA\nMHE Staff\n\nSchools:\nManor Hil
 l Elementary\n\nLocation:\nMHE Library\n\n
URL;VALUE=URI:http://liberty53.tandem.co/index.php?type=view&action=event&
 id=344144
CREATED:20190605T122455Z
LAST-MODIFIED:20190605T122455Z
UID:event-344144-liberty53@intand.com
END:VEVENT
END:VCALENDAR
