BEGIN:VCALENDAR
VERSION:2.0
PRODID:-//Intand Corporation//Tandem//EN
METHOD:PUBLISH
BEGIN:VEVENT
DTSTAMP:20260424T033646Z
DTSTART:20191112T220000Z
DTEND:20191113T020000Z
TRANSP:TRANSPARENT
PRIORITY:0
SUMMARY:MH-MANDT Initial Cert-STAFF
LOCATION:MHE Library
DESCRIPTION:Groups:\nMHE Staff\n\nSchools:\nManor Hill Elementary\n\nLocat
 ion:\nMHE Library\n\n
URL;VALUE=URI:http://liberty53.tandem.co/index.php?type=view&action=event&
 id=344126
CREATED:20190605T120738Z
LAST-MODIFIED:20190605T120738Z
UID:event-344126-liberty53@intand.com
END:VEVENT
END:VCALENDAR
