BEGIN:VCALENDAR
VERSION:2.0
PRODID:-//Intand Corporation//Tandem//EN
METHOD:PUBLISH
BEGIN:VEVENT
DTSTAMP:20260424T043209Z
DTSTART:20200222T000000Z
DTEND:20200222T020000Z
TRANSP:TRANSPARENT
PRIORITY:0
SUMMARY:LC - PTA Bingo Night
LOCATION:LCE Cafeteria
DESCRIPTION:Groups:\nLCE Staff\nLCE Parent\nLCE PTA\nLCE Kid's Zone\nLCE A
 dmin\n\nSchools:\nLewis And Clark Elementary\n\nLocation:\nLCE Cafeteria\n
 \n
URL;VALUE=URI:http://liberty53.tandem.co/index.php?type=view&action=event&
 id=344043
CREATED:20190604T150356Z
LAST-MODIFIED:20190604T150356Z
UID:event-344043-liberty53@intand.com
END:VEVENT
END:VCALENDAR
