BEGIN:VCALENDAR
VERSION:2.0
PRODID:-//Intand Corporation//Tandem//EN
METHOD:PUBLISH
BEGIN:VEVENT
DTSTAMP:20260424T061431Z
DTSTART:20190724T123000Z
DTEND:20190724T213000Z
TRANSP:TRANSPARENT
PRIORITY:0
SUMMARY:LN Gates
LOCATION:LNHS Room 810
DESCRIPTION:Groups:\nLNHS Staff\n\nSchools:\nLiberty North High School\n\n
 Location:\nLNHS Room 810\n\n
URL;VALUE=URI:http://liberty53.tandem.co/index.php?type=view&action=event&
 id=343872
CREATED:20190603T134027Z
LAST-MODIFIED:20190603T134027Z
UID:event-343872-liberty53@intand.com
END:VEVENT
END:VCALENDAR
