BEGIN:VCALENDAR
VERSION:2.0
PRODID:-//Intand Corporation//Tandem//EN
METHOD:PUBLISH
BEGIN:VEVENT
DTSTAMP:20260424T023149Z
DTSTART:20190530T230000Z
DTEND:20190531T010000Z
TRANSP:TRANSPARENT
PRIORITY:0
SUMMARY:LO - Havoc Baseball ( Rodick)
LOCATION:LOE Baseball Field
DESCRIPTION:Groups:\nHavoc Baseball\n\nSchools:\nLiberty Oaks Elementary\n
 \nLocation:\nLOE Baseball Field\n\n
URL;VALUE=URI:http://liberty53.tandem.co/index.php?type=view&action=event&
 id=343735
CREATED:20190530T185049Z
LAST-MODIFIED:20190530T185049Z
UID:event-343735-liberty53@intand.com
END:VEVENT
END:VCALENDAR
