BEGIN:VCALENDAR
VERSION:2.0
PRODID:-//Intand Corporation//Tandem//EN
METHOD:PUBLISH
BEGIN:VEVENT
DTSTAMP:20260424T014823Z
DTSTART:20190816T200000Z
DTEND:20190817T040000Z
TRANSP:TRANSPARENT
PRIORITY:0
SUMMARY:HMS Honor Choirs Lock-In
LOCATION:HMS Auditorium\, HMS Room 107\, HMS Cafeteria\, HMS Room 108 Orch
 estra 
DESCRIPTION:Groups:\nHMS Vocal Music\n\nSchools:\nHeritage Middle School\n
 \nLocations:\nHMS Auditorium\nHMS Room 107\nHMS Cafeteria\nHMS Room 108 Or
 chestra \n\n
URL;VALUE=URI:http://liberty53.tandem.co/index.php?type=view&action=event&
 id=343645
CREATED:20190530T130145Z
LAST-MODIFIED:20190531T153819Z
UID:event_request-343645-liberty53@intand.com
END:VEVENT
END:VCALENDAR
