BEGIN:VCALENDAR
VERSION:2.0
PRODID:-//Intand Corporation//Tandem//EN
METHOD:PUBLISH
BEGIN:VEVENT
DTSTAMP:20260424T033247Z
DTSTART:20191218T184000Z
DTEND:20191218T202000Z
TRANSP:TRANSPARENT
PRIORITY:0
SUMMARY:band sectionals
LOCATION:DMS Cafeteria
DESCRIPTION:Groups:\nDMS Band\n\nSchools:\nDiscovery Middle School\n\nLoca
 tion:\nDMS Cafeteria\n\n
URL;VALUE=URI:http://liberty53.tandem.co/index.php?type=view&action=event&
 id=343601
CREATED:20190530T125210Z
LAST-MODIFIED:20190530T150858Z
UID:event_request-343601-liberty53@intand.com
END:VEVENT
END:VCALENDAR
