BEGIN:VCALENDAR
VERSION:2.0
PRODID:-//Intand Corporation//Tandem//EN
METHOD:PUBLISH
BEGIN:VEVENT
DTSTAMP:20260424T033524Z
DTSTART:20191230T140000Z
DTEND:20191230T170000Z
TRANSP:TRANSPARENT
PRIORITY:0
SUMMARY:LN Men's Team Wrestling Practice 
LOCATION:LNHS Wrestling Room
DESCRIPTION:Groups:\nLNHS Wrestling - Boys JV/Varsity\n\nSchools:\nLiberty
  North High School\n\nLocation:\nLNHS Wrestling Room\n\n
URL;VALUE=URI:http://liberty53.tandem.co/index.php?type=view&action=event&
 id=343443
CREATED:20190528T214711Z
LAST-MODIFIED:20190529T203838Z
UID:event_request-343443-liberty53@intand.com
END:VEVENT
END:VCALENDAR
