BEGIN:VCALENDAR
VERSION:2.0
PRODID:-//Intand Corporation//Tandem//EN
METHOD:PUBLISH
BEGIN:VEVENT
DTSTAMP:20260424T073620Z
DTSTART:20190620T130000Z
DTEND:20190620T170000Z
TRANSP:TRANSPARENT
PRIORITY:0
SUMMARY:DAC-410 Children's Services Fund
LOCATION:DAC 4 - 410
DESCRIPTION:per JM\n\nGroups:\nDAC Innovation & Learning\n\nSchools:\nDist
 rict Administration Center\n\nLocation:\nDAC 4 - 410\n\n
URL;VALUE=URI:http://liberty53.tandem.co/index.php?type=view&action=event&
 id=343367
CREATED:20190528T181051Z
LAST-MODIFIED:20190528T193230Z
UID:event_request-343367-liberty53@intand.com
END:VEVENT
END:VCALENDAR
