BEGIN:VCALENDAR
VERSION:2.0
PRODID:-//Intand Corporation//Tandem//EN
METHOD:PUBLISH
BEGIN:VEVENT
DTSTAMP:20260424T063533Z
DTSTART:20191205T010000Z
DTEND:20191205T023000Z
TRANSP:TRANSPARENT
PRIORITY:0
SUMMARY:HMS Orchestra Winter Concert with KB\, EPiC & WH
LOCATION:LNHS Performing Arts Theater (GH HVAC)\, LNHS Room 612 Orchestra\
 , LNHS Room 617 VM-Large\, LNHS Room 613 VM-Small\, LNHS Room 616 Band
DESCRIPTION:Combined orchestra winter concert with Heritage Middle School\
 , Kellybrook and Warren Hills elementary schools.\n\nSetup: 5:30 pm\nBreak
 down: 9:00 pm\n\nGroups:\nEPiC Strings\nHMS Orchestra\nKE Strings\nWHE Str
 ings\n\nSchools:\nEPiC Elementary\nHeritage Middle School\nKellybrook Elem
 entary\nLiberty North High School\nWarren Hills Elementary\n\nLocations:\n
 LNHS Performing Arts Theater (GH HVAC)\nLNHS Room 612 Orchestra\nLNHS Room
  617 VM-Large\nLNHS Room 613 VM-Small\nLNHS Room 616 Band\n\n
X-ALT-DESC;FMTTYPE=text/html:<!doctype html><html><body><span>Combined orc
 hestra winter concert with Heritage Middle School\, Kellybrook and Warren 
 Hills elementary schools.</span><br /><br />Setup: 5:30 pm<br />Breakdown:
  9:00 pm<br /><br />Groups:<br />EPiC Strings<br />HMS Orchestra<br />KE S
 trings<br />WHE Strings<br /><br />Schools:<br />EPiC Elementary<br />Heri
 tage Middle School<br />Kellybrook Elementary<br />Liberty North High Scho
 ol<br />Warren Hills Elementary<br /><br />Locations:<br />LNHS Performing
  Arts Theater (GH HVAC)<br />LNHS Room 612 Orchestra<br />LNHS Room 617 VM
 -Large<br />LNHS Room 613 VM-Small<br />LNHS Room 616 Band<br /></body></h
 tml>
URL;VALUE=URI:http://liberty53.tandem.co/index.php?type=view&action=event&
 id=343209
CREATED:20190523T160750Z
LAST-MODIFIED:20191119T193212Z
UID:event_request-343209-liberty53@intand.com
END:VEVENT
END:VCALENDAR
