BEGIN:VCALENDAR
VERSION:2.0
PRODID:-//Intand Corporation//Tandem//EN
METHOD:PUBLISH
BEGIN:VEVENT
DTSTAMP:20260424T061438Z
DTSTART:20190528T180500Z
DTEND:20190528T184000Z
TRANSP:TRANSPARENT
PRIORITY:0
SUMMARY:A+ Training
LOCATION:LHS Administrative Conference Room
DESCRIPTION:A+ Training for newly enrolled A+ participants\n\nSchools:\nLi
 berty High School\n\nLocation:\nLHS Administrative Conference Room\n\n
URL;VALUE=URI:http://liberty53.tandem.co/index.php?type=view&action=event&
 id=342949
CREATED:20190522T201706Z
LAST-MODIFIED:20190523T174742Z
UID:event_request-342949-liberty53@intand.com
END:VEVENT
END:VCALENDAR
