BEGIN:VCALENDAR
VERSION:2.0
PRODID:-//Intand Corporation//Tandem//EN
METHOD:PUBLISH
BEGIN:VEVENT
DTSTAMP:20260424T050405Z
DTSTART:20190528T144500Z
DTEND:20190528T151500Z
TRANSP:TRANSPARENT
PRIORITY:0
SUMMARY:A+ Training
LOCATION:LHS Administrative Conference Room
DESCRIPTION:A+ Training for those newly enrolled in A+ \n\nSchools:\nLiber
 ty High School\n\nLocation:\nLHS Administrative Conference Room\n\n
URL;VALUE=URI:http://liberty53.tandem.co/index.php?type=view&action=event&
 id=342948
CREATED:20190522T201607Z
LAST-MODIFIED:20190523T174742Z
UID:event_request-342948-liberty53@intand.com
END:VEVENT
END:VCALENDAR
