BEGIN:VCALENDAR
VERSION:2.0
PRODID:-//Intand Corporation//Tandem//EN
METHOD:PUBLISH
BEGIN:VEVENT
DTSTAMP:20260424T024036Z
DTSTART:20190603T200000Z
DTEND:20190603T230000Z
TRANSP:TRANSPARENT
PRIORITY:0
SUMMARY:LNHS Color Guard Rehearsal
LOCATION:SCE Gym
DESCRIPTION:Groups:\nLNHS Color Guard \n\nSchools:\nLiberty North High Sch
 ool\nShoal Creek Elementary\n\nLocation:\nSCE Gym\n\n
URL;VALUE=URI:http://liberty53.tandem.co/index.php?type=view&action=event&
 id=342782
CREATED:20190521T150926Z
LAST-MODIFIED:20190613T203615Z
UID:event-342782-liberty53@intand.com
END:VEVENT
END:VCALENDAR
