BEGIN:VCALENDAR
VERSION:2.0
PRODID:-//Intand Corporation//Tandem//EN
METHOD:PUBLISH
BEGIN:VEVENT
DTSTAMP:20260424T043711Z
DTSTART:20190607T130000Z
DTEND:20190607T160000Z
TRANSP:TRANSPARENT
PRIORITY:0
SUMMARY:Summer School Math PLP
LOCATION:LNHS 929A - PLP
DESCRIPTION:Summer School Math PLP\n\nGroups:\nLNHS Staff\n\nSchools:\nLib
 erty North High School\n\nLocation:\nLNHS 929A - PLP\n\n
URL;VALUE=URI:http://liberty53.tandem.co/index.php?type=view&action=event&
 id=342670
CREATED:20190521T145350Z
LAST-MODIFIED:20190521T145350Z
UID:event-342670-liberty53@intand.com
END:VEVENT
END:VCALENDAR
