BEGIN:VCALENDAR
VERSION:2.0
PRODID:-//Intand Corporation//Tandem//EN
METHOD:PUBLISH
BEGIN:VEVENT
DTSTAMP:20260424T061610Z
DTSTART:20190521T120000Z
DTEND:20190521T153000Z
TRANSP:TRANSPARENT
PRIORITY:0
SUMMARY:PEAK Activity
LOCATION:SVMS LGIR
DESCRIPTION:Groups:\nSVMS Peak\n\nSchools:\nSouth Valley Middle School\n\n
 Location:\nSVMS LGIR\n\n
URL;VALUE=URI:http://liberty53.tandem.co/index.php?type=view&action=event&
 id=342631
CREATED:20190520T204908Z
LAST-MODIFIED:20190521T121634Z
UID:event_request-342631-liberty53@intand.com
END:VEVENT
END:VCALENDAR
