BEGIN:VCALENDAR
VERSION:2.0
PRODID:-//Intand Corporation//Tandem//EN
METHOD:PUBLISH
BEGIN:VEVENT
DTSTAMP:20260424T043400Z
DTSTART:20190523T230000Z
DTEND:20190524T010000Z
TRANSP:TRANSPARENT
PRIORITY:0
SUMMARY:LNWR Meeting
LOCATION:LNHS Room 417 - The Eagle Room
DESCRIPTION:Groups:\nLNHS Wrestling - Boys JV/Varsity\n\nSchools:\nLiberty
  North High School\n\nLocation:\nLNHS Room 417 - The Eagle Room\n\n
URL;VALUE=URI:http://liberty53.tandem.co/index.php?type=view&action=event&
 id=342586
CREATED:20190518T140739Z
LAST-MODIFIED:20190521T144118Z
UID:event_request-342586-liberty53@intand.com
END:VEVENT
END:VCALENDAR
