BEGIN:VCALENDAR
VERSION:2.0
PRODID:-//Intand Corporation//Tandem//EN
METHOD:PUBLISH
BEGIN:VEVENT
DTSTAMP:20260424T063705Z
DTSTART:20190524T180000Z
DTEND:20190524T183000Z
TRANSP:TRANSPARENT
PRIORITY:0
SUMMARY:LHS Football - Team Meeting
LOCATION:LHS Learning Stairs
DESCRIPTION:Groups:\nLHS Football\n\nSchools:\nLiberty High School\n\nLoca
 tion:\nLHS Learning Stairs\n\n
URL;VALUE=URI:http://liberty53.tandem.co/index.php?type=view&action=event&
 id=342402
CREATED:20190517T133437Z
LAST-MODIFIED:20190517T141449Z
UID:event_request-342402-liberty53@intand.com
END:VEVENT
END:VCALENDAR
