BEGIN:VCALENDAR
VERSION:2.0
PRODID:-//Intand Corporation//Tandem//EN
METHOD:PUBLISH
BEGIN:VEVENT
DTSTAMP:20260424T041053Z
DTSTART:20190610T230000Z
DTEND:20190611T010000Z
TRANSP:TRANSPARENT
PRIORITY:0
SUMMARY:DMS - Saltdogs Baseball (Beran)
LOCATION:DMS Baseball/Softball
DESCRIPTION:Groups:\nSaltdogs Baseball\n\nSchools:\nDiscovery Middle Schoo
 l\n\nLocation:\nDMS Baseball/Softball\n\n
URL;VALUE=URI:http://liberty53.tandem.co/index.php?type=view&action=event&
 id=342246
CREATED:20190515T161300Z
LAST-MODIFIED:20190515T161300Z
UID:event-342246-liberty53@intand.com
END:VEVENT
END:VCALENDAR
