BEGIN:VCALENDAR
VERSION:2.0
PRODID:-//Intand Corporation//Tandem//EN
METHOD:PUBLISH
BEGIN:VEVENT
DTSTAMP:20260424T043124Z
DTSTART:20190520T180000Z
DTEND:20190520T200000Z
TRANSP:TRANSPARENT
PRIORITY:0
SUMMARY:DAC 3-Executive Conf Room-COO Mtg
LOCATION:DAC 3-Executive Conference Room
DESCRIPTION:Groups:\nDAC Chief Operations Officer\n\nSchools:\nDistrict Ad
 ministration Center\n\nLocation:\nDAC 3-Executive Conference Room\n\n
URL;VALUE=URI:http://liberty53.tandem.co/index.php?type=view&action=event&
 id=342064
CREATED:20190515T124012Z
LAST-MODIFIED:20190515T124012Z
UID:event-342064-liberty53@intand.com
END:VEVENT
END:VCALENDAR
