BEGIN:VCALENDAR
VERSION:2.0
PRODID:-//Intand Corporation//Tandem//EN
METHOD:PUBLISH
BEGIN:VEVENT
DTSTAMP:20260424T073939Z
DTSTART:20190516T202000Z
DTEND:20190516T214500Z
TRANSP:TRANSPARENT
PRIORITY:0
SUMMARY:Girls C Team Navy Uniform Check In
LOCATION:LNHS Room 417 - The Eagle Room
DESCRIPTION:Groups:\nLNHS Soccer - Girls C-Team\n\nSchools:\nLiberty North
  High School\n\nLocation:\nLNHS Room 417 - The Eagle Room\n\nSupervisors:\
 nPeter Pence\n\n
URL;VALUE=URI:http://liberty53.tandem.co/index.php?type=view&action=event&
 id=342039
CREATED:20190514T194131Z
LAST-MODIFIED:20190515T150422Z
UID:event_request-342039-liberty53@intand.com
END:VEVENT
END:VCALENDAR
